BEGIN:VCALENDAR
VERSION:2.0
PRODID:-//Bardelebenschule Essen - ECPv6.15.20//NONSGML v1.0//EN
CALSCALE:GREGORIAN
METHOD:PUBLISH
X-WR-CALNAME:Bardelebenschule Essen
X-ORIGINAL-URL:https://www.bardeleben-schule.de
X-WR-CALDESC:Veranstaltungen für Bardelebenschule Essen
REFRESH-INTERVAL;VALUE=DURATION:PT1H
X-Robots-Tag:noindex
X-PUBLISHED-TTL:PT1H
BEGIN:VTIMEZONE
TZID:Europe/Berlin
BEGIN:DAYLIGHT
TZOFFSETFROM:+0100
TZOFFSETTO:+0200
TZNAME:CEST
DTSTART:20250330T010000
END:DAYLIGHT
BEGIN:STANDARD
TZOFFSETFROM:+0200
TZOFFSETTO:+0100
TZNAME:CET
DTSTART:20251026T010000
END:STANDARD
BEGIN:DAYLIGHT
TZOFFSETFROM:+0100
TZOFFSETTO:+0200
TZNAME:CEST
DTSTART:20260329T010000
END:DAYLIGHT
BEGIN:STANDARD
TZOFFSETFROM:+0200
TZOFFSETTO:+0100
TZNAME:CET
DTSTART:20261025T010000
END:STANDARD
BEGIN:DAYLIGHT
TZOFFSETFROM:+0100
TZOFFSETTO:+0200
TZNAME:CEST
DTSTART:20270328T010000
END:DAYLIGHT
BEGIN:STANDARD
TZOFFSETFROM:+0200
TZOFFSETTO:+0100
TZNAME:CET
DTSTART:20271031T010000
END:STANDARD
END:VTIMEZONE
BEGIN:VEVENT
DTSTART;TZID=Europe/Berlin:20260421T140000
DTEND;TZID=Europe/Berlin:20260421T160000
DTSTAMP:20260419T143548
CREATED:20251025T201958Z
LAST-MODIFIED:20251025T201958Z
UID:18153-1776780000-1776787200@www.bardeleben-schule.de
SUMMARY:Gesamtteamkonferenz - Notbetreuung am Nachmittag
DESCRIPTION:
URL:https://www.bardeleben-schule.de/event/gesamtteamkonferenz-notbetreuung-am-nachmittag-3/
CATEGORIES:schulinterne Termine
END:VEVENT
BEGIN:VEVENT
DTSTART;TZID=Europe/Berlin:20260430T080000
DTEND;TZID=Europe/Berlin:20260430T170000
DTSTAMP:20260419T143548
CREATED:20260202T161200Z
LAST-MODIFIED:20260202T161219Z
UID:18312-1777536000-1777568400@www.bardeleben-schule.de
SUMMARY:🚲 Jugendverkehrsschule Klasse 4 Probefahrt im Schulumfeld (2/2)
DESCRIPTION:
URL:https://www.bardeleben-schule.de/event/%f0%9f%9a%b2-jugendverkehrsschule-klasse-4-probefahrt-im-schulumfeld-2/
END:VEVENT
BEGIN:VEVENT
DTSTART;VALUE=DATE:20260501
DTEND;VALUE=DATE:20260502
DTSTAMP:20260419T143548
CREATED:20251025T202053Z
LAST-MODIFIED:20251025T202053Z
UID:18155-1777593600-1777679999@www.bardeleben-schule.de
SUMMARY:Tag der Arbeit - schulfrei
DESCRIPTION:
URL:https://www.bardeleben-schule.de/event/tag-der-arbeit-schulfrei/
CATEGORIES:schulfrei
END:VEVENT
BEGIN:VEVENT
DTSTART;VALUE=DATE:20260507
DTEND;VALUE=DATE:20260508
DTSTAMP:20260419T143548
CREATED:20251025T202200Z
LAST-MODIFIED:20251025T202200Z
UID:18157-1778112000-1778198399@www.bardeleben-schule.de
SUMMARY:Elternsprechtag 🏫
DESCRIPTION:
URL:https://www.bardeleben-schule.de/event/elternsprechtag-%f0%9f%8f%ab-3/
CATEGORIES:schulinterne Termine
END:VEVENT
BEGIN:VEVENT
DTSTART;TZID=Europe/Berlin:20260508T080000
DTEND;TZID=Europe/Berlin:20260508T170000
DTSTAMP:20260419T143548
CREATED:20250430T080411Z
LAST-MODIFIED:20250430T080411Z
UID:17779-1778227200-1778259600@www.bardeleben-schule.de
SUMMARY:🚲 Jugendverkehrsschule Klasse 4 Abschlussfahrt im Schulumfeld
DESCRIPTION:
URL:https://www.bardeleben-schule.de/event/%f0%9f%9a%b2-jugendverkehrsschule-klasse-4-abschlussfahrt-im-schulumfeld/
CATEGORIES:schulinterne Termine
END:VEVENT
BEGIN:VEVENT
DTSTART;VALUE=DATE:20260512
DTEND;VALUE=DATE:20260513
DTSTAMP:20260419T143548
CREATED:20251025T202243Z
LAST-MODIFIED:20251025T202243Z
UID:18159-1778544000-1778630399@www.bardeleben-schule.de
SUMMARY:Elternsprechtag 🏫
DESCRIPTION:
URL:https://www.bardeleben-schule.de/event/elternsprechtag-%f0%9f%8f%ab-4/
CATEGORIES:schulinterne Termine
END:VEVENT
BEGIN:VEVENT
DTSTART;VALUE=DATE:20260514
DTEND;VALUE=DATE:20260515
DTSTAMP:20260419T143548
CREATED:20251025T202348Z
LAST-MODIFIED:20251025T202348Z
UID:18161-1778716800-1778803199@www.bardeleben-schule.de
SUMMARY:Christi Himmelfahrt - schulfrei
DESCRIPTION:
URL:https://www.bardeleben-schule.de/event/christi-himmelfahrt-schulfrei/
CATEGORIES:schulfrei
END:VEVENT
BEGIN:VEVENT
DTSTART;VALUE=DATE:20260515
DTEND;VALUE=DATE:20260516
DTSTAMP:20260419T143548
CREATED:20251025T202434Z
LAST-MODIFIED:20251025T202434Z
UID:18163-1778803200-1778889599@www.bardeleben-schule.de
SUMMARY:Ferientag - schulfrei
DESCRIPTION:
URL:https://www.bardeleben-schule.de/event/ferientag-schulfrei-2/
CATEGORIES:schulfrei
END:VEVENT
BEGIN:VEVENT
DTSTART;VALUE=DATE:20260525
DTEND;VALUE=DATE:20260526
DTSTAMP:20260419T143548
CREATED:20251025T202724Z
LAST-MODIFIED:20251025T202818Z
UID:18165-1779667200-1779753599@www.bardeleben-schule.de
SUMMARY:Pfingstmontag - schulfrei
DESCRIPTION:
URL:https://www.bardeleben-schule.de/event/pfingstmontag-schulfrei/
CATEGORIES:schulfrei
END:VEVENT
BEGIN:VEVENT
DTSTART;VALUE=DATE:20260526
DTEND;VALUE=DATE:20260527
DTSTAMP:20260419T143548
CREATED:20251025T202854Z
LAST-MODIFIED:20251025T202854Z
UID:18167-1779753600-1779839999@www.bardeleben-schule.de
SUMMARY:Ferientag - schulfrei
DESCRIPTION:
URL:https://www.bardeleben-schule.de/event/ferientag-schulfrei-3/
CATEGORIES:schulfrei
END:VEVENT
BEGIN:VEVENT
DTSTART;VALUE=DATE:20260530
DTEND;VALUE=DATE:20260531
DTSTAMP:20260419T143548
CREATED:20251025T203203Z
LAST-MODIFIED:20251025T203203Z
UID:18169-1780099200-1780185599@www.bardeleben-schule.de
SUMMARY:Sponsorenlauf 🏃🏻‍♂️🏃🏽‍♀️
DESCRIPTION:
URL:https://www.bardeleben-schule.de/event/sponsorenlauf-%f0%9f%8f%83%f0%9f%8f%bb%e2%99%82%ef%b8%8f%f0%9f%8f%83%f0%9f%8f%bd%e2%99%80%ef%b8%8f/
CATEGORIES:schulinterne Termine
END:VEVENT
BEGIN:VEVENT
DTSTART;VALUE=DATE:20260604
DTEND;VALUE=DATE:20260605
DTSTAMP:20260419T143548
CREATED:20251025T203332Z
LAST-MODIFIED:20251025T203332Z
UID:18171-1780531200-1780617599@www.bardeleben-schule.de
SUMMARY:Fronleichnam - schulfrei
DESCRIPTION:
URL:https://www.bardeleben-schule.de/event/fronleichnam-schulfrei/
CATEGORIES:schulfrei
END:VEVENT
BEGIN:VEVENT
DTSTART;VALUE=DATE:20260605
DTEND;VALUE=DATE:20260606
DTSTAMP:20260419T143548
CREATED:20251025T203634Z
LAST-MODIFIED:20251025T203634Z
UID:18173-1780617600-1780703999@www.bardeleben-schule.de
SUMMARY:Unterrichtsfrei
DESCRIPTION:
URL:https://www.bardeleben-schule.de/event/unterrichtsfrei/
CATEGORIES:schulfrei
END:VEVENT
BEGIN:VEVENT
DTSTART;VALUE=DATE:20260613
DTEND;VALUE=DATE:20260614
DTSTAMP:20260419T143548
CREATED:20251025T203943Z
LAST-MODIFIED:20251025T203949Z
UID:18175-1781308800-1781395199@www.bardeleben-schule.de
SUMMARY:Flohmarkt 🐻
DESCRIPTION:
URL:https://www.bardeleben-schule.de/event/flohmarkt-%f0%9f%90%bb/
CATEGORIES:schulinterne Termine
END:VEVENT
BEGIN:VEVENT
DTSTART;VALUE=DATE:20260709
DTEND;VALUE=DATE:20260710
DTSTAMP:20260419T143548
CREATED:20251025T204139Z
LAST-MODIFIED:20251025T204247Z
UID:18177-1783555200-1783641599@www.bardeleben-schule.de
SUMMARY:Kennenlernnachmittag 🤝🏼
DESCRIPTION:
URL:https://www.bardeleben-schule.de/event/kennenlernnachmittag/
CATEGORIES:schulinterne Termine
END:VEVENT
BEGIN:VEVENT
DTSTART;TZID=Europe/Berlin:20260714T140000
DTEND;TZID=Europe/Berlin:20260714T160000
DTSTAMP:20260419T143548
CREATED:20251025T204408Z
LAST-MODIFIED:20251025T204408Z
UID:18182-1784037600-1784044800@www.bardeleben-schule.de
SUMMARY:Gesamtteamkonferenz - Notbetreuung am Nachmittag
DESCRIPTION:
URL:https://www.bardeleben-schule.de/event/gesamtteamkonferenz-notbetreuung-am-nachmittag-4/
CATEGORIES:schulinterne Termine
END:VEVENT
BEGIN:VEVENT
DTSTART;VALUE=DATE:20260715
DTEND;VALUE=DATE:20260716
DTSTAMP:20260419T143548
CREATED:20251025T204504Z
LAST-MODIFIED:20251025T204504Z
UID:18184-1784073600-1784159999@www.bardeleben-schule.de
SUMMARY:Bardeleben-Cup 🏆
DESCRIPTION:
URL:https://www.bardeleben-schule.de/event/bardeleben-cup-%f0%9f%8f%86/
CATEGORIES:schulinterne Termine
END:VEVENT
BEGIN:VEVENT
DTSTART;VALUE=DATE:20260720
DTEND;VALUE=DATE:20260902
DTSTAMP:20260419T143548
CREATED:20251025T204643Z
LAST-MODIFIED:20251025T204643Z
UID:18186-1784505600-1788307199@www.bardeleben-schule.de
SUMMARY:Sommerferien ☀️🍓
DESCRIPTION:
URL:https://www.bardeleben-schule.de/event/sommerferien-%e2%98%80%ef%b8%8f%f0%9f%8d%93/
CATEGORIES:schulfrei
END:VEVENT
END:VCALENDAR